BEGIN:VCALENDAR
VERSION:2.0
PRODID:-//Contratero//ES
CALSCALE:GREGORIAN
METHOD:PUBLISH
BEGIN:VEVENT
UID:2022/1 EUR-2023/49@contratero.es
DTSTAMP:20260426T004243Z
DTSTART:20230605T235959
DTEND:20230606T005959
SUMMARY:Cierre: Suministro de 7 licencias MAXQDA o similar.
DESCRIPTION:Suministro de 7 licencias MAXQDA o similar.\\n\\nOrganismo: Fundación para la Investigación del Hospital Clínico de la Comunidad Valenciana\, Fundación Incliva\\n\\nVer en Contratero: https://contratero.es/contracts/2022/1 EUR-2023/49
URL:https://contratero.es/contracts/2022/1 EUR-2023/49
STATUS:CONFIRMED
BEGIN:VALARM
TRIGGER:-P1D
ACTION:DISPLAY
DESCRIPTION:Recordatorio: Suministro de 7 licencias MAXQ
END:VALARM
END:VEVENT
END:VCALENDAR